BEGIN:VCALENDAR
VERSION:2.0
PRODID:-//Tim Pattosien  Lust auf Bewusstsein - ECPv4.6.13//NONSGML v1.0//EN
CALSCALE:GREGORIAN
METHOD:PUBLISH
X-WR-CALNAME:Tim Pattosien  Lust auf Bewusstsein
X-ORIGINAL-URL:https://lust-auf-bewusstsein.de
X-WR-CALDESC:Veranstaltungen für Tim Pattosien  Lust auf Bewusstsein
BEGIN:VEVENT
DTSTART;TZID=Europe/Berlin:20260512T190000
DTEND;TZID=Europe/Berlin:20260512T210000
DTSTAMP:20260421T084557
CREATED:20260416T153500Z
LAST-MODIFIED:20260416T153529Z
UID:2827-1778612400-1778619600@lust-auf-bewusstsein.de
SUMMARY:Zum Kennenlernen: Dein QF-Erlebnisabend
DESCRIPTION:Lerne Quantenheilung live kennen.\nAchtung – bitte  anmelden (per e-Mail oder den Link) \n
URL:https://lust-auf-bewusstsein.de/seminar/zum-kennenlernen-dein-qf-erlebnisabend-2-2-2-2-2-2-3-2-2-2-2-2-2-3-2-2-2/
LOCATION:Siedlerstraße 10\, Gäufelden-Nebringen\, 71126\, Deutschland
ORGANIZER;CN="Gesundheits-Seminare%20Tim%20Pattosien":MAILTO:tim@lust-auf-bewusstsein.de
END:VEVENT
BEGIN:VEVENT
DTSTART;VALUE=DATE:20260613
DTEND;VALUE=DATE:20260615
DTSTAMP:20260421T084557
CREATED:20260227T111602Z
LAST-MODIFIED:20260227T111602Z
UID:2824-1781308800-1781481599@lust-auf-bewusstsein.de
SUMMARY:Self-Trance-Formation
DESCRIPTION:
URL:https://lust-auf-bewusstsein.de/seminar/self-trance-formation-2-2-2-2-3-2-2-2-2-2/
LOCATION:Schelmenäcker 14\, 71083 Herrenberg\, 71083\, Deutschland
ORGANIZER;CN="Lust%20auf%20Bewusstsein%20-%20Gesundheits-Seminare%20Tim%20Pattosien":MAILTO:tim@lust-auf-bewusstsein.de
END:VEVENT
BEGIN:VEVENT
DTSTART;VALUE=DATE:20260815
DTEND;VALUE=DATE:20260817
DTSTAMP:20260421T084557
CREATED:20260206T100403Z
LAST-MODIFIED:20260416T162750Z
UID:2821-1786752000-1786924799@lust-auf-bewusstsein.de
SUMMARY:QF 3 (Level X - Quantenbewusstsein)
DESCRIPTION:
URL:https://lust-auf-bewusstsein.de/seminar/qf-3-level-x-quantenbewusstsein-6-2-2-2-2-2-2-2-2-2-2-2-2-2-2-2-2-2-2-2-2-2/
LOCATION:Schelmenäcker 14\, 71083 Herrenberg\, 71083\, Deutschland
ORGANIZER;CN="Lust%20auf%20Bewusstsein%20-%20Gesundheits-Seminare%20Tim%20Pattosien":MAILTO:tim@lust-auf-bewusstsein.de
END:VEVENT
END:VCALENDAR